BEGIN:VCALENDAR
VERSION:2.0
PRODID:-//Old Northamptonians - ECPv6.1.3//NONSGML v1.0//EN
CALSCALE:GREGORIAN
METHOD:PUBLISH
X-WR-CALNAME:Old Northamptonians
X-ORIGINAL-URL:https://theoldnorthamptonians.co.uk
X-WR-CALDESC:Events for Old Northamptonians
REFRESH-INTERVAL;VALUE=DURATION:PT1H
X-Robots-Tag:noindex
X-PUBLISHED-TTL:PT1H
BEGIN:VTIMEZONE
TZID:Europe/London
BEGIN:DAYLIGHT
TZOFFSETFROM:+0000
TZOFFSETTO:+0100
TZNAME:BST
DTSTART:20220327T010000
END:DAYLIGHT
BEGIN:STANDARD
TZOFFSETFROM:+0100
TZOFFSETTO:+0000
TZNAME:GMT
DTSTART:20221030T010000
END:STANDARD
END:VTIMEZONE
BEGIN:VEVENT
DTSTART;TZID=Europe/London:20220511T180000
DTEND;TZID=Europe/London:20220511T180000
DTSTAMP:20260420T180714
CREATED:20220429T085922Z
LAST-MODIFIED:20220429T085922Z
UID:944-1652292000-1652292000@theoldnorthamptonians.co.uk
SUMMARY:u15 v Kislingbury
DESCRIPTION:
URL:https://theoldnorthamptonians.co.uk/event/u15-v-kislingbury/
LOCATION:Sir Humphrey Cripps Pavilion\, Billing Road\, Northampton\, NN1 5RX\, United Kingdom
END:VEVENT
BEGIN:VEVENT
DTSTART;TZID=Europe/London:20220510T180000
DTEND;TZID=Europe/London:20220510T200000
DTSTAMP:20260420T180714
CREATED:20220429T085627Z
LAST-MODIFIED:20220429T085627Z
UID:942-1652205600-1652212800@theoldnorthamptonians.co.uk
SUMMARY:u15 v Earls Barton
DESCRIPTION:
URL:https://theoldnorthamptonians.co.uk/event/u15-v-earls-barton/
LOCATION:Sir Humphrey Cripps Pavilion\, Billing Road\, Northampton\, NN1 5RX\, United Kingdom
END:VEVENT
BEGIN:VEVENT
DTSTART;TZID=Europe/London:20220507T110000
DTEND;TZID=Europe/London:20220507T170000
DTSTAMP:20260420T180714
CREATED:20220429T090839Z
LAST-MODIFIED:20220429T090839Z
UID:962-1651921200-1651942800@theoldnorthamptonians.co.uk
SUMMARY:1st XI v Desborough
DESCRIPTION:3rd XI v Podington \n5th XI v St Crispin & Ryelands
URL:https://theoldnorthamptonians.co.uk/event/1st-xi-v-desborough/
LOCATION:Sir Humphrey Cripps Pavilion\, Billing Road\, Northampton\, NN1 5RX\, United Kingdom
END:VEVENT
BEGIN:VEVENT
DTSTART;TZID=Europe/London:20220429T193000
DTEND;TZID=Europe/London:20220429T230000
DTSTAMP:20260420T180714
CREATED:20220413T113556Z
LAST-MODIFIED:20220413T113738Z
UID:796-1651260600-1651273200@theoldnorthamptonians.co.uk
SUMMARY:Quiz Night
DESCRIPTION:Join us for our ever popular Quiz Night on Friday April 29th from 19:30. \nNewcomers welcome. Contact mechelle@oldnorthamptonians.co.uk for further information
URL:https://theoldnorthamptonians.co.uk/event/quiz-night-2/
LOCATION:Sir Humphrey Cripps Pavilion\, Billing Road\, Northampton\, NN1 5RX\, United Kingdom
CATEGORIES:Quiz
END:VEVENT
END:VCALENDAR