BEGIN:VCALENDAR
VERSION:2.0
PRODID:-//Old Northamptonians - ECPv6.1.3//NONSGML v1.0//EN
CALSCALE:GREGORIAN
METHOD:PUBLISH
X-ORIGINAL-URL:https://theoldnorthamptonians.co.uk
X-WR-CALDESC:Events for Old Northamptonians
REFRESH-INTERVAL;VALUE=DURATION:PT1H
X-Robots-Tag:noindex
X-PUBLISHED-TTL:PT1H
BEGIN:VTIMEZONE
TZID:Europe/London
BEGIN:DAYLIGHT
TZOFFSETFROM:+0000
TZOFFSETTO:+0100
TZNAME:BST
DTSTART:20220327T010000
END:DAYLIGHT
BEGIN:STANDARD
TZOFFSETFROM:+0100
TZOFFSETTO:+0000
TZNAME:GMT
DTSTART:20221030T010000
END:STANDARD
END:VTIMEZONE
BEGIN:VEVENT
DTSTART;TZID=Europe/London:20220520T190000
DTEND;TZID=Europe/London:20220520T233000
DTSTAMP:20260421T204550
CREATED:20220427T120825Z
LAST-MODIFIED:20220427T121226Z
UID:919-1653073200-1653089400@theoldnorthamptonians.co.uk
SUMMARY:Annual Dinner - Rugby
DESCRIPTION:The end of season celebration will take place on Friday 20th May at the club. Purchase your tickets ASAP!\nFriday 20th May 2022; 19:00 for 19:30 \nTickets £20.00 per person \nDress code is SMART (i.e. club tie & shirt) \nSlight change of format this year\, as we want as many as possible to attend – open to U18 year group (school year 13) & above. \nFood supplied Bilash Tandoori; chicken & veg options available. \nAny queries let me know. \nThanks Brid & Blanky
URL:https://theoldnorthamptonians.co.uk/event/annual-dinner-rugby/
LOCATION:Sir Humphrey Cripps Pavilion\, Billing Road\, Northampton\, NN1 5RX\, United Kingdom
CATEGORIES:Annual Dinner
ATTACH;FMTTYPE=image/jpeg:https://theoldnorthamptonians.co.uk/wp-content/uploads/2022/04/download.jpg
END:VEVENT
END:VCALENDAR